BEGIN:VCALENDAR
VERSION:2.0
PRODID:-//Rotary in Wallington - ECPv6.15.17//NONSGML v1.0//EN
CALSCALE:GREGORIAN
METHOD:PUBLISH
X-ORIGINAL-URL:https://www.rotaryinwallington.co.uk
X-WR-CALDESC:Events for Rotary in Wallington
REFRESH-INTERVAL;VALUE=DURATION:PT1H
X-Robots-Tag:noindex
X-PUBLISHED-TTL:PT1H
BEGIN:VTIMEZONE
TZID:Europe/London
BEGIN:DAYLIGHT
TZOFFSETFROM:+0000
TZOFFSETTO:+0100
TZNAME:BST
DTSTART:20220327T010000
END:DAYLIGHT
BEGIN:STANDARD
TZOFFSETFROM:+0100
TZOFFSETTO:+0000
TZNAME:GMT
DTSTART:20221030T010000
END:STANDARD
BEGIN:DAYLIGHT
TZOFFSETFROM:+0000
TZOFFSETTO:+0100
TZNAME:BST
DTSTART:20230326T010000
END:DAYLIGHT
BEGIN:STANDARD
TZOFFSETFROM:+0100
TZOFFSETTO:+0000
TZNAME:GMT
DTSTART:20231029T010000
END:STANDARD
BEGIN:DAYLIGHT
TZOFFSETFROM:+0000
TZOFFSETTO:+0100
TZNAME:BST
DTSTART:20240331T010000
END:DAYLIGHT
BEGIN:STANDARD
TZOFFSETFROM:+0100
TZOFFSETTO:+0000
TZNAME:GMT
DTSTART:20241027T010000
END:STANDARD
BEGIN:DAYLIGHT
TZOFFSETFROM:+0000
TZOFFSETTO:+0100
TZNAME:BST
DTSTART:20250330T010000
END:DAYLIGHT
BEGIN:STANDARD
TZOFFSETFROM:+0100
TZOFFSETTO:+0000
TZNAME:GMT
DTSTART:20251026T010000
END:STANDARD
END:VTIMEZONE
BEGIN:VEVENT
DTSTART;TZID=Europe/London:20240608T090000
DTEND;TZID=Europe/London:20240608T130000
DTSTAMP:20260421T095031
CREATED:20240521T104942Z
LAST-MODIFIED:20240521T104942Z
UID:486-1717837200-1717851600@www.rotaryinwallington.co.uk
SUMMARY:Farmers Market 8 Jun 2024
DESCRIPTION:Wallington Rotary will be attending the Wallington Farmers Market \nWe will have a range of activities for kids and adults and there will be a collection for local charities and good causes
URL:https://www.rotaryinwallington.co.uk/event/farmers-market-8-jun-2024/
LOCATION:Wallington Farmers Market\, Wallington Town Hall\, Wallington\, SM6 0NB
CATEGORIES:Farmers Market
ATTACH;FMTTYPE=image/png:https://www.rotaryinwallington.co.uk/wp-content/uploads/2023/02/rotary_header.png
END:VEVENT
BEGIN:VEVENT
DTSTART;TZID=Europe/London:20240607T193000
DTEND;TZID=Europe/London:20240607T220000
DTSTAMP:20260421T095031
CREATED:20240423T083920Z
LAST-MODIFIED:20240423T092032Z
UID:468-1717788600-1717797600@www.rotaryinwallington.co.uk
SUMMARY:Charity Bingo Night 7th Jun 2024
DESCRIPTION:Join us for a wonderful night of Bingo \nPrizes to be won\, while having fun! \nWe are supporting local charities and other good causes.
URL:https://www.rotaryinwallington.co.uk/event/charity-bingo-night-7-jun-2024/
LOCATION:Woodcote Flying Club\, Hillcrest House\, Woodcote Road\, Wallington\, SM6 0LT\, United Kingdom
CATEGORIES:Bingo
ATTACH;FMTTYPE=image/png:https://www.rotaryinwallington.co.uk/wp-content/uploads/2024/04/bingo.png
END:VEVENT
BEGIN:VEVENT
DTSTART;TZID=Europe/London:20240426T193000
DTEND;TZID=Europe/London:20240426T223000
DTSTAMP:20260421T095031
CREATED:20240226T093947Z
LAST-MODIFIED:20240423T085547Z
UID:435-1714159800-1714170600@www.rotaryinwallington.co.uk
SUMMARY:Charity Quiz Night 26th April 2024 (SOLD OUT)
DESCRIPTION:Quiz night with Wallington Rotary Club
URL:https://www.rotaryinwallington.co.uk/event/charity-quiz-night-26-april-2024/
LOCATION:Woodcote Flying Club\, Hillcrest House\, Woodcote Road\, Wallington\, SM6 0LT\, United Kingdom
CATEGORIES:Quiz
ATTACH;FMTTYPE=image/png:https://www.rotaryinwallington.co.uk/wp-content/uploads/2023/09/quiz.png
END:VEVENT
BEGIN:VEVENT
DTSTART;TZID=Europe/London:20240413T090000
DTEND;TZID=Europe/London:20240413T130000
DTSTAMP:20260421T095031
CREATED:20240226T092641Z
LAST-MODIFIED:20240226T092641Z
UID:432-1712998800-1713013200@www.rotaryinwallington.co.uk
SUMMARY:Farmers Market 13 April 2024
DESCRIPTION:Wallington Rotary will be attending the Wallington Farmers Market \nWe will have a range of activities for kids and adults and there will be a collection for local charities and good causes
URL:https://www.rotaryinwallington.co.uk/event/farmers-market-11-april-2024/
LOCATION:Wallington Farmers Market\, Wallington Town Hall\, Wallington\, SM6 0NB
CATEGORIES:Farmers Market
ATTACH;FMTTYPE=image/png:https://www.rotaryinwallington.co.uk/wp-content/uploads/2023/02/rotary_header.png
END:VEVENT
BEGIN:VEVENT
DTSTART;TZID=Europe/London:20240210T090000
DTEND;TZID=Europe/London:20240210T130000
DTSTAMP:20260421T095031
CREATED:20240130T182005Z
LAST-MODIFIED:20240130T182005Z
UID:418-1707555600-1707570000@www.rotaryinwallington.co.uk
SUMMARY:Farmers Market Feb 2024
DESCRIPTION:Wallington Rotary will be attending the Wallington Farmers Market \nWe will have a range of activities for kids and adults and there will be a collection for local charities and good causes.
URL:https://www.rotaryinwallington.co.uk/event/farmers-market-feb-2024/
LOCATION:Wallington Farmers Market\, Wallington Town Hall\, Wallington\, SM6 0NB
CATEGORIES:Farmers Market
ATTACH;FMTTYPE=image/png:https://www.rotaryinwallington.co.uk/wp-content/uploads/2023/02/rotary_header.png
END:VEVENT
BEGIN:VEVENT
DTSTART;TZID=Europe/London:20240126T193000
DTEND;TZID=Europe/London:20240126T233000
DTSTAMP:20260421T095031
CREATED:20231204T123107Z
LAST-MODIFIED:20231204T123144Z
UID:367-1706297400-1706311800@www.rotaryinwallington.co.uk
SUMMARY:Charity Quiz Night 26 January 2024
DESCRIPTION:Charity Quiz Night 26th Jan 2024\nQuiz night with Wallington Rotary Club
URL:https://www.rotaryinwallington.co.uk/event/charity-quiz-night-26-jan-2024/
LOCATION:Woodcote Flying Club\, Hillcrest House\, Woodcote Road\, Wallington\, SM6 0LT\, United Kingdom
CATEGORIES:Quiz
ATTACH;FMTTYPE=image/png:https://www.rotaryinwallington.co.uk/wp-content/uploads/2023/09/quiz.png
END:VEVENT
BEGIN:VEVENT
DTSTART;TZID=Europe/London:20231215T193000
DTEND;TZID=Europe/London:20231215T223000
DTSTAMP:20260421T095031
CREATED:20231027T114556Z
LAST-MODIFIED:20231113T190028Z
UID:256-1702668600-1702679400@www.rotaryinwallington.co.uk
SUMMARY:Charity Race Night 15 Dec 2023
DESCRIPTION:Come and join us for a fun-filled Charity Race Night\n\nRaffle\nFood and drink are available\nSupporting local charities
URL:https://www.rotaryinwallington.co.uk/event/charity-race-night-15-dec-2023/
CATEGORIES:Race Night
ATTACH;FMTTYPE=image/jpeg:https://www.rotaryinwallington.co.uk/wp-content/uploads/2023/09/race-2-1513833.jpg
END:VEVENT
BEGIN:VEVENT
DTSTART;TZID=Europe/London:20231209T090000
DTEND;TZID=Europe/London:20231209T130000
DTSTAMP:20260421T095031
CREATED:20231004T134639Z
LAST-MODIFIED:20240130T181820Z
UID:229-1702112400-1702126800@www.rotaryinwallington.co.uk
SUMMARY:Farmers Market 9 Dec 2023
DESCRIPTION:Wallington Rotary will be attending the Wallington Farmers Market \nWe will have a range of activities for kids and adults and there will be a collection for local charities and good causes.
URL:https://www.rotaryinwallington.co.uk/event/farmers-market-9-12-2023/
LOCATION:Wallington Farmers Market\, Wallington Town Hall\, Wallington\, SM6 0NB
CATEGORIES:Farmers Market
ATTACH;FMTTYPE=image/png:https://www.rotaryinwallington.co.uk/wp-content/uploads/2023/02/rotary_header.png
END:VEVENT
BEGIN:VEVENT
DTSTART;TZID=Europe/London:20231110T193000
DTEND;TZID=Europe/London:20231110T230000
DTSTAMP:20260421T095031
CREATED:20230906T175913Z
LAST-MODIFIED:20231005T080627Z
UID:185-1699644600-1699657200@www.rotaryinwallington.co.uk
SUMMARY:Charity Quiz Night 10 Nov 23
DESCRIPTION:Quiz night with Wallington Rotary Club
URL:https://www.rotaryinwallington.co.uk/event/charity-quiz-night-10-nov-23/
LOCATION:Woodcote Flying Club\, Hillcrest House\, Woodcote Road\, Wallington\, SM6 0LT\, United Kingdom
CATEGORIES:Quiz
ATTACH;FMTTYPE=image/png:https://www.rotaryinwallington.co.uk/wp-content/uploads/2023/09/quiz.png
END:VEVENT
BEGIN:VEVENT
DTSTART;TZID=Europe/London:20231014T090000
DTEND;TZID=Europe/London:20231014T130000
DTSTAMP:20260421T095031
CREATED:20230924T104432Z
LAST-MODIFIED:20231004T134825Z
UID:196-1697274000-1697288400@www.rotaryinwallington.co.uk
SUMMARY:Farmers Market 14 Oct 2023
DESCRIPTION:Wallington Rotary will be attending the Wallington Farmers Market \nWe will have a range of activities for kids and adults and will be a collection for local charities and good causes.
URL:https://www.rotaryinwallington.co.uk/event/farmers-market-14-oct-2023/
LOCATION:Wallington Farmers Market\, Wallington Town Hall\, Wallington\, SM6 0NB
CATEGORIES:Farmers Market
ATTACH;FMTTYPE=image/png:https://www.rotaryinwallington.co.uk/wp-content/uploads/2023/02/rotary_header.png
END:VEVENT
BEGIN:VEVENT
DTSTART;TZID=Europe/London:20231013T193000
DTEND;TZID=Europe/London:20231013T230000
DTSTAMP:20260421T095031
CREATED:20230904T091931Z
LAST-MODIFIED:20240226T091624Z
UID:124-1697225400-1697238000@www.rotaryinwallington.co.uk
SUMMARY:Charity Race Night 13  Oct 2023
DESCRIPTION:Come and join us for a fun-filled Charity Race Night \n\nRaffle\nFood and drink are available\nSupporting local charities
URL:https://www.rotaryinwallington.co.uk/event/charity-race-night-13-oct-2023/
LOCATION:Woodcote Flying Club\, Hillcrest House\, Woodcote Road\, Wallington\, SM6 0LT\, United Kingdom
CATEGORIES:Race Night
ATTACH;FMTTYPE=image/jpeg:https://www.rotaryinwallington.co.uk/wp-content/uploads/2023/09/race-2-1513833.jpg
END:VEVENT
BEGIN:VEVENT
DTSTART;VALUE=DATE:20230916
DTEND;VALUE=DATE:20230918
DTSTAMP:20260421T095031
CREATED:20230904T092639Z
LAST-MODIFIED:20230904T092639Z
UID:128-1694822400-1694995199@www.rotaryinwallington.co.uk
SUMMARY:100 year of Rotary in Sutton Sept 2003
DESCRIPTION:
URL:https://www.rotaryinwallington.co.uk/event/100-year-of-rotary-in-sutton-sept-2003/
END:VEVENT
BEGIN:VEVENT
DTSTART;TZID=Europe/London:20230915T193000
DTEND;TZID=Europe/London:20230915T230000
DTSTAMP:20260421T095031
CREATED:20230904T062850Z
LAST-MODIFIED:20240423T082736Z
UID:111-1694806200-1694818800@www.rotaryinwallington.co.uk
SUMMARY:Charity Quiz Night 15 Sept 2023
DESCRIPTION:Now Sold Out
URL:https://www.rotaryinwallington.co.uk/event/charity-quiz-night-15-sept-2023/
CATEGORIES:Quiz
END:VEVENT
END:VCALENDAR